BEGIN:VCALENDAR
VERSION:2.0
PRODID:-//eventon.com NONSGML v1.0//EN
CALSCALE:GREGORIAN
METHOD:PUBLISH
BEGIN:VEVENT
UID:69eb7e2724db4
DTSTAMP:20260424T142855Z
DTSTART:20211002T193000Z
DTEND:20211002T235000Z
LOCATION:
SUMMARY:16 Kurzgeschichten  für Violine und Klavier
DESCRIPTION:16 Kurzgeschichten   für Violine und Klavier &nbsp; Geschicht
 en kann man erzählen mit Worten. Sophia de Jong und Carolina Sarmiento mac
 hen es mit Klängen. In diesem Konzert bringen sie die Erzählungen zum Aus
 druck von vier Komponisten und einer Komponistin aus Ost Europa\,  geschrie
 ben in den letzten 100 Jahren. &nbsp; Die[..]\nhttps://ortschafftkultur.ch/
 events/16-kurzgeschichten-fuer-violine-und-klavier/
URL:https://ortschafftkultur.ch/events/16-kurzgeschichten-fuer-violine-und-klavier/
END:VEVENT
END:VCALENDAR