BEGIN:VCALENDAR
VERSION:2.0
PRODID:-//eventon.com NONSGML v1.0//EN
CALSCALE:GREGORIAN
METHOD:PUBLISH
BEGIN:VEVENT
UID:69e8a71534273
DTSTAMP:20260422T104645Z
DTSTART:20250918T200000Z
DTEND:20250918T200000Z
LOCATION:
SUMMARY:silent music
DESCRIPTION:Robert Schmidt spielt meditative Musik auf dem Konzertflügel m
 it entsprechender Beleuchtung. Das Angebot richtet sich an alle\,  die es g
 eniessen\,  eine Zeit still zu sein\,  zu hören und sich von der Musik ber
 ühren zu lassen. Stühle stehen zur Verfügung. Wer auf dem Boden sitzen o
 der liegen möchte\,  bitte Decke oder[..]\nhttps://ortschafftkultur.ch/eve
 nts/silent-music/
URL:https://ortschafftkultur.ch/events/silent-music/
END:VEVENT
END:VCALENDAR